BEGIN:VCALENDAR
VERSION:2.0
PRODID:-//Regional Hispanic Contractors Association - ECPv6.15.20//NONSGML v1.0//EN
CALSCALE:GREGORIAN
METHOD:PUBLISH
X-WR-CALNAME:Regional Hispanic Contractors Association
X-ORIGINAL-URL:https://regionalhca.org
X-WR-CALDESC:Events for Regional Hispanic Contractors Association
REFRESH-INTERVAL;VALUE=DURATION:PT1H
X-Robots-Tag:noindex
X-PUBLISHED-TTL:PT1H
BEGIN:VTIMEZONE
TZID:America/Chicago
BEGIN:DAYLIGHT
TZOFFSETFROM:-0600
TZOFFSETTO:-0500
TZNAME:CDT
DTSTART:20250309T080000
END:DAYLIGHT
BEGIN:STANDARD
TZOFFSETFROM:-0500
TZOFFSETTO:-0600
TZNAME:CST
DTSTART:20251102T070000
END:STANDARD
BEGIN:DAYLIGHT
TZOFFSETFROM:-0600
TZOFFSETTO:-0500
TZNAME:CDT
DTSTART:20260308T080000
END:DAYLIGHT
BEGIN:STANDARD
TZOFFSETFROM:-0500
TZOFFSETTO:-0600
TZNAME:CST
DTSTART:20261101T070000
END:STANDARD
BEGIN:DAYLIGHT
TZOFFSETFROM:-0600
TZOFFSETTO:-0500
TZNAME:CDT
DTSTART:20270314T080000
END:DAYLIGHT
BEGIN:STANDARD
TZOFFSETFROM:-0500
TZOFFSETTO:-0600
TZNAME:CST
DTSTART:20271107T070000
END:STANDARD
END:VTIMEZONE
BEGIN:VEVENT
DTSTART;TZID=America/Chicago:20260421T113000
DTEND;TZID=America/Chicago:20260421T130000
DTSTAMP:20260421T060200
CREATED:20260416T204907Z
LAST-MODIFIED:20260416T204907Z
UID:10002553-1776771000-1776776400@regionalhca.org
SUMMARY:NTTA Business Opportunities Stakeholder Session
DESCRIPTION:Discover upcoming contracting opportunities with NTTA\, connect with our leadership as well as industry peers and learn how to grow your business. You will also have the opportunity to network and gain valuable insights on how to do business with NTTA during this focused session. \n\n\nDallas College West Dallas Center\n3330 N. Hampton Rd.\, Dallas\, TX 75212 \n\n\n\n\n\n\n\nApr 21\, 2026 11:30am CT – Apr 21\, 2026 01:00pm CT\n\n\n\n\n\n\n\nRegister Here \n\n\n\n\n\n\n\n\n\n\n\n\n\n\n\n\n\n 
URL:https://regionalhca.org/event/ntta-business-opportunities-stakeholder-session/
LOCATION:3330 N. Hampton Rd.\, Dallas\, TX 75212\, 3330 N. Hampton Rd.\, Dallas\, 75212\, United States
ATTACH;FMTTYPE=image/png:https://regionalhca.org/wp-content/uploads/2026/04/Screenshot-2026-04-16-at-3.46.54-p.m.png
END:VEVENT
END:VCALENDAR