BEGIN:VCALENDAR
VERSION:2.0
PRODID:-//Regional Hispanic Contractors Association - ECPv6.15.20//NONSGML v1.0//EN
CALSCALE:GREGORIAN
METHOD:PUBLISH
X-WR-CALNAME:Regional Hispanic Contractors Association
X-ORIGINAL-URL:https://regionalhca.org
X-WR-CALDESC:Events for Regional Hispanic Contractors Association
REFRESH-INTERVAL;VALUE=DURATION:PT1H
X-Robots-Tag:noindex
X-PUBLISHED-TTL:PT1H
BEGIN:VTIMEZONE
TZID:America/Chicago
BEGIN:DAYLIGHT
TZOFFSETFROM:-0600
TZOFFSETTO:-0500
TZNAME:CDT
DTSTART:20230312T080000
END:DAYLIGHT
BEGIN:STANDARD
TZOFFSETFROM:-0500
TZOFFSETTO:-0600
TZNAME:CST
DTSTART:20231105T070000
END:STANDARD
BEGIN:DAYLIGHT
TZOFFSETFROM:-0600
TZOFFSETTO:-0500
TZNAME:CDT
DTSTART:20240310T080000
END:DAYLIGHT
BEGIN:STANDARD
TZOFFSETFROM:-0500
TZOFFSETTO:-0600
TZNAME:CST
DTSTART:20241103T070000
END:STANDARD
BEGIN:DAYLIGHT
TZOFFSETFROM:-0600
TZOFFSETTO:-0500
TZNAME:CDT
DTSTART:20250309T080000
END:DAYLIGHT
BEGIN:STANDARD
TZOFFSETFROM:-0500
TZOFFSETTO:-0600
TZNAME:CST
DTSTART:20251102T070000
END:STANDARD
END:VTIMEZONE
BEGIN:VEVENT
DTSTART;TZID=America/Chicago:20240911T083000
DTEND;TZID=America/Chicago:20240911T100000
DTSTAMP:20260421T213519
CREATED:20240909T153728Z
LAST-MODIFIED:20240909T153728Z
UID:10000682-1726043400-1726048800@regionalhca.org
SUMMARY:GDHCC Straight Talk - Public Funding for Private Schools
DESCRIPTION:GDHCC Straight Talk – Public Funding for Private Schools \nWhen: September 11\, 2024 \nWhere: Dallas College Coppell Center\, 101 S Royal Ln\, Coppell\, TX 75019 \nRSVP: https://bit.ly/4d1jZqq \n\nExplore the Pros and Cons of School vouchers and their impact on students\, families\, and districts.\nExamine whether vouchers are the right path for Texas Education’s future.\nGain balanced insights to form your own perspective on using public funds for private schools.\n\n \n 
URL:https://regionalhca.org/event/gdhcc-straight-talk-public-funding-for-private-schools/
LOCATION:dallas college coppell center\, 101 S. Royal Ln\, Coppell\, 75019\, United States
ATTACH;FMTTYPE=image/png:https://regionalhca.org/wp-content/uploads/2024/09/Screenshot-2024-09-09-at-10.33.07 a.m.png
END:VEVENT
END:VCALENDAR