BEGIN:VCALENDAR
VERSION:2.0
PRODID:-//Regional Hispanic Contractors Association - ECPv6.15.20//NONSGML v1.0//EN
CALSCALE:GREGORIAN
METHOD:PUBLISH
X-WR-CALNAME:Regional Hispanic Contractors Association
X-ORIGINAL-URL:https://regionalhca.org
X-WR-CALDESC:Events for Regional Hispanic Contractors Association
REFRESH-INTERVAL;VALUE=DURATION:PT1H
X-Robots-Tag:noindex
X-PUBLISHED-TTL:PT1H
BEGIN:VTIMEZONE
TZID:America/Chicago
BEGIN:DAYLIGHT
TZOFFSETFROM:-0600
TZOFFSETTO:-0500
TZNAME:CDT
DTSTART:20250309T080000
END:DAYLIGHT
BEGIN:STANDARD
TZOFFSETFROM:-0500
TZOFFSETTO:-0600
TZNAME:CST
DTSTART:20251102T070000
END:STANDARD
BEGIN:DAYLIGHT
TZOFFSETFROM:-0600
TZOFFSETTO:-0500
TZNAME:CDT
DTSTART:20260308T080000
END:DAYLIGHT
BEGIN:STANDARD
TZOFFSETFROM:-0500
TZOFFSETTO:-0600
TZNAME:CST
DTSTART:20261101T070000
END:STANDARD
BEGIN:DAYLIGHT
TZOFFSETFROM:-0600
TZOFFSETTO:-0500
TZNAME:CDT
DTSTART:20270314T080000
END:DAYLIGHT
BEGIN:STANDARD
TZOFFSETFROM:-0500
TZOFFSETTO:-0600
TZNAME:CST
DTSTART:20271107T070000
END:STANDARD
END:VTIMEZONE
BEGIN:VEVENT
DTSTART;TZID=America/Chicago:20260327T110000
DTEND;TZID=America/Chicago:20260327T130000
DTSTAMP:20260421T082831
CREATED:20260323T172150Z
LAST-MODIFIED:20260323T172150Z
UID:10002502-1774609200-1774616400@regionalhca.org
SUMMARY:Annual Membership Meeting & Luncheon | Board Elections
DESCRIPTION:Annual Membership Meeting & Luncheon | Board Elections \n  \n\n\nFriday\, March 27 | 11:00 AM – 1:00 PM\nDallas College Mountain View | Building B Room B149| 4849 W. Illinois Ave\, Dallas\, TX 75211\n\n\n\nRegister Here
URL:https://regionalhca.org/event/annual-membership-meeting-luncheon-board-elections/
LOCATION:Dallas College Mountain View | Building B Room B149| 4849 W. Illinois Ave\, Dallas\, TX 75211\, 4849\, Illinois Ave.\, Dallas\, 752111\, United States
ATTACH;FMTTYPE=image/png:https://regionalhca.org/wp-content/uploads/2026/03/Screenshot-2026-03-23-at-10.29.48-a.m.png
END:VEVENT
END:VCALENDAR