BEGIN:VCALENDAR
VERSION:2.0
PRODID:-//Regional Hispanic Contractors Association - ECPv6.15.20//NONSGML v1.0//EN
CALSCALE:GREGORIAN
METHOD:PUBLISH
X-ORIGINAL-URL:https://regionalhca.org
X-WR-CALDESC:Events for Regional Hispanic Contractors Association
REFRESH-INTERVAL;VALUE=DURATION:PT1H
X-Robots-Tag:noindex
X-PUBLISHED-TTL:PT1H
BEGIN:VTIMEZONE
TZID:America/Chicago
BEGIN:DAYLIGHT
TZOFFSETFROM:-0600
TZOFFSETTO:-0500
TZNAME:CDT
DTSTART:20240310T080000
END:DAYLIGHT
BEGIN:STANDARD
TZOFFSETFROM:-0500
TZOFFSETTO:-0600
TZNAME:CST
DTSTART:20241103T070000
END:STANDARD
BEGIN:DAYLIGHT
TZOFFSETFROM:-0600
TZOFFSETTO:-0500
TZNAME:CDT
DTSTART:20250309T080000
END:DAYLIGHT
BEGIN:STANDARD
TZOFFSETFROM:-0500
TZOFFSETTO:-0600
TZNAME:CST
DTSTART:20251102T070000
END:STANDARD
BEGIN:DAYLIGHT
TZOFFSETFROM:-0600
TZOFFSETTO:-0500
TZNAME:CDT
DTSTART:20260308T080000
END:DAYLIGHT
BEGIN:STANDARD
TZOFFSETFROM:-0500
TZOFFSETTO:-0600
TZNAME:CST
DTSTART:20261101T070000
END:STANDARD
END:VTIMEZONE
BEGIN:VEVENT
DTSTART;TZID=America/Chicago:20250419T090000
DTEND;TZID=America/Chicago:20250419T120000
DTSTAMP:20260421T154920
CREATED:20250311T124920Z
LAST-MODIFIED:20250418T162920Z
UID:10000825-1745053200-1745064000@regionalhca.org
SUMMARY:Como Iniciar un Negocio en la Construcción
DESCRIPTION:EDIFICIO S – CUARTO S1029 \n  \n¿Listo para iniciar tu propio negocio de construcción pero no sabes por dónde empezar?\nEste taller te guiará a través de los pasos clave para lanzar una empresa de construcción exitosa.
URL:https://regionalhca.org/event/como-iniciar-un-negocio-en-la-construccion/
LOCATION:Dallas College – Mountain View Campus\, 4849 W. Illinois Ave\, Dallas\, 75211\, United States
CATEGORIES:Small Business Training
ATTACH;FMTTYPE=image/png:https://regionalhca.org/wp-content/uploads/2025/03/Como-iniciar-un-Negocio-en-la-construccion.png
END:VEVENT
END:VCALENDAR