BEGIN:VCALENDAR
VERSION:2.0
PRODID:-//Regional Hispanic Contractors Association - ECPv6.15.20//NONSGML v1.0//EN
CALSCALE:GREGORIAN
METHOD:PUBLISH
X-ORIGINAL-URL:https://regionalhca.org
X-WR-CALDESC:Events for Regional Hispanic Contractors Association
REFRESH-INTERVAL;VALUE=DURATION:PT1H
X-Robots-Tag:noindex
X-PUBLISHED-TTL:PT1H
BEGIN:VTIMEZONE
TZID:America/Chicago
BEGIN:DAYLIGHT
TZOFFSETFROM:-0600
TZOFFSETTO:-0500
TZNAME:CDT
DTSTART:20230312T080000
END:DAYLIGHT
BEGIN:STANDARD
TZOFFSETFROM:-0500
TZOFFSETTO:-0600
TZNAME:CST
DTSTART:20231105T070000
END:STANDARD
BEGIN:DAYLIGHT
TZOFFSETFROM:-0600
TZOFFSETTO:-0500
TZNAME:CDT
DTSTART:20240310T080000
END:DAYLIGHT
BEGIN:STANDARD
TZOFFSETFROM:-0500
TZOFFSETTO:-0600
TZNAME:CST
DTSTART:20241103T070000
END:STANDARD
BEGIN:DAYLIGHT
TZOFFSETFROM:-0600
TZOFFSETTO:-0500
TZNAME:CDT
DTSTART:20250309T080000
END:DAYLIGHT
BEGIN:STANDARD
TZOFFSETFROM:-0500
TZOFFSETTO:-0600
TZNAME:CST
DTSTART:20251102T070000
END:STANDARD
END:VTIMEZONE
BEGIN:VEVENT
DTSTART;TZID=America/Chicago:20240907T110000
DTEND;TZID=America/Chicago:20240907T220000
DTSTAMP:20260421T171256
CREATED:20240821T212957Z
LAST-MODIFIED:20240821T212957Z
UID:10000679-1725706800-1725746400@regionalhca.org
SUMMARY:El Dia del Salvadoreño
DESCRIPTION:El Dia del Salvadoreño \nVen con nosotros el próximo sábado 7 de septiembre para festejar a El Salvador y a todos los salvadoreños con un gran día de música\, entretenimiento\, comida y muchas sorpresas más. \n  \n¿Dónde\, cuando y a qué hora? \n7 de septiembre de 2024\, de 11 a.m. a 10 p.m.  \nLevi Event Plaza\, Irving\, TX \nPresentación \n\nComidas tradicionales\nCamiones de comida latina\nDelicias para niños: palomitas\, nieve\, raspados\, máquina de bon-bones y payasos\nVentas de artesanías\nÁrea infantil\nPresentación de inversiones y oportunidades en El Salvador\nY mucho más.\n\nLine-Up \n\nSabor Latino\nLigia Morales\nJohnny Molina y los Sabaneros de Aniceto Molina\nLa Autentica Banda LL\nMario Roberto y su Orquesta Canela\nGrupo Musical La Maquina\nLa Gran Sonora de Chikis\nLatin Band 503\nMythological Characters\n\n¡Te Esperamos!
URL:https://regionalhca.org/event/el-dia-del-salvadoreno/
LOCATION:Levi Event Plaza\, Irving\, TX
ATTACH;FMTTYPE=image/png:https://regionalhca.org/wp-content/uploads/2024/08/Screenshot-2024-08-21-at-3.50.59 p.m.png
END:VEVENT
END:VCALENDAR