BEGIN:VCALENDAR
VERSION:2.0
PRODID:-//Regional Hispanic Contractors Association - ECPv6.15.20//NONSGML v1.0//EN
CALSCALE:GREGORIAN
METHOD:PUBLISH
X-ORIGINAL-URL:https://regionalhca.org
X-WR-CALDESC:Events for Regional Hispanic Contractors Association
REFRESH-INTERVAL;VALUE=DURATION:PT1H
X-Robots-Tag:noindex
X-PUBLISHED-TTL:PT1H
BEGIN:VTIMEZONE
TZID:America/Chicago
BEGIN:DAYLIGHT
TZOFFSETFROM:-0600
TZOFFSETTO:-0500
TZNAME:CDT
DTSTART:20240310T080000
END:DAYLIGHT
BEGIN:STANDARD
TZOFFSETFROM:-0500
TZOFFSETTO:-0600
TZNAME:CST
DTSTART:20241103T070000
END:STANDARD
BEGIN:DAYLIGHT
TZOFFSETFROM:-0600
TZOFFSETTO:-0500
TZNAME:CDT
DTSTART:20250309T080000
END:DAYLIGHT
BEGIN:STANDARD
TZOFFSETFROM:-0500
TZOFFSETTO:-0600
TZNAME:CST
DTSTART:20251102T070000
END:STANDARD
BEGIN:DAYLIGHT
TZOFFSETFROM:-0600
TZOFFSETTO:-0500
TZNAME:CDT
DTSTART:20260308T080000
END:DAYLIGHT
BEGIN:STANDARD
TZOFFSETFROM:-0500
TZOFFSETTO:-0600
TZNAME:CST
DTSTART:20261101T070000
END:STANDARD
END:VTIMEZONE
BEGIN:VEVENT
DTSTART;TZID=America/Chicago:20250725T080000
DTEND;TZID=America/Chicago:20250725T163000
DTSTAMP:20260421T133304
CREATED:20250331T135440Z
LAST-MODIFIED:20250424T211400Z
UID:10000877-1753430400-1753461000@regionalhca.org
SUMMARY:NCCER Workforce Training Program Cohort 2 Spanish | Friday's
DESCRIPTION:Introduction to Basic Construction Skills prepares individuals for entry-level positions.\n\n\n\n\nThe RHCA National Training & Safety Foundation and the Regional Hispanic Contractors Association are delighted to present the Workforce Training Program. \n\nThe opportunities in this industry are much broader than you can imagine. But this industry demands craft professionals and skilled individuals so that this training program will lead you on a path to your new construction career. \n\nConstruction is an exciting industry that offers multiple career opportunities\, is well-paid\, and is growing day by day\, impacting positively on society and the world. Just a few of the construction professions in high demand are carpenter\, pipefitter\, welder\, electrician\, project manager\, and crane operator. \n\n\nBenefits\n\nThe program is 80 hours long.\nThe program is free.\nIntroducing The Day After (job placement assistance to help you start your career)\n\nOutcome & Goals\nSkilled construction professionals with enough knowledge\, tools\, and techniques at a basic level to develop tasks in complex structures. \n\n\n\n\n\nTrain the workforce in the introduction of basic construction skills. \nCreate a network of contacts between the communities of the construction industry.\nContribute to closing the gap of knowledge and give the workforce tools and techniques to reinsert successfully in the marketplace
URL:https://regionalhca.org/event/nccer-workforce-training-program-cohort-2-spanish-fridays/2025-07-25/
LOCATION:Mission Oak Cliff  111 S. Beckley Ave. Dallas\, TX 75203
ATTACH;FMTTYPE=image/png:https://regionalhca.org/wp-content/uploads/2025/03/Screenshot-2025-03-31-at-8.39.36 AM.png
END:VEVENT
BEGIN:VEVENT
DTSTART;TZID=America/Chicago:20250718T080000
DTEND;TZID=America/Chicago:20250718T163000
DTSTAMP:20260421T133304
CREATED:20250331T135440Z
LAST-MODIFIED:20250424T211400Z
UID:10000876-1752825600-1752856200@regionalhca.org
SUMMARY:NCCER Workforce Training Program Cohort 2 Spanish | Friday's
DESCRIPTION:Introduction to Basic Construction Skills prepares individuals for entry-level positions.\n\n\n\n\nThe RHCA National Training & Safety Foundation and the Regional Hispanic Contractors Association are delighted to present the Workforce Training Program. \n\nThe opportunities in this industry are much broader than you can imagine. But this industry demands craft professionals and skilled individuals so that this training program will lead you on a path to your new construction career. \n\nConstruction is an exciting industry that offers multiple career opportunities\, is well-paid\, and is growing day by day\, impacting positively on society and the world. Just a few of the construction professions in high demand are carpenter\, pipefitter\, welder\, electrician\, project manager\, and crane operator. \n\n\nBenefits\n\nThe program is 80 hours long.\nThe program is free.\nIntroducing The Day After (job placement assistance to help you start your career)\n\nOutcome & Goals\nSkilled construction professionals with enough knowledge\, tools\, and techniques at a basic level to develop tasks in complex structures. \n\n\n\n\n\nTrain the workforce in the introduction of basic construction skills. \nCreate a network of contacts between the communities of the construction industry.\nContribute to closing the gap of knowledge and give the workforce tools and techniques to reinsert successfully in the marketplace
URL:https://regionalhca.org/event/nccer-workforce-training-program-cohort-2-spanish-fridays/2025-07-18/
LOCATION:Mission Oak Cliff  111 S. Beckley Ave. Dallas\, TX 75203
ATTACH;FMTTYPE=image/png:https://regionalhca.org/wp-content/uploads/2025/03/Screenshot-2025-03-31-at-8.39.36 AM.png
END:VEVENT
BEGIN:VEVENT
DTSTART;TZID=America/Chicago:20250711T080000
DTEND;TZID=America/Chicago:20250711T163000
DTSTAMP:20260421T133304
CREATED:20250331T135440Z
LAST-MODIFIED:20250424T211400Z
UID:10000875-1752220800-1752251400@regionalhca.org
SUMMARY:NCCER Workforce Training Program Cohort 2 Spanish | Friday's
DESCRIPTION:Introduction to Basic Construction Skills prepares individuals for entry-level positions.\n\n\n\n\nThe RHCA National Training & Safety Foundation and the Regional Hispanic Contractors Association are delighted to present the Workforce Training Program. \n\nThe opportunities in this industry are much broader than you can imagine. But this industry demands craft professionals and skilled individuals so that this training program will lead you on a path to your new construction career. \n\nConstruction is an exciting industry that offers multiple career opportunities\, is well-paid\, and is growing day by day\, impacting positively on society and the world. Just a few of the construction professions in high demand are carpenter\, pipefitter\, welder\, electrician\, project manager\, and crane operator. \n\n\nBenefits\n\nThe program is 80 hours long.\nThe program is free.\nIntroducing The Day After (job placement assistance to help you start your career)\n\nOutcome & Goals\nSkilled construction professionals with enough knowledge\, tools\, and techniques at a basic level to develop tasks in complex structures. \n\n\n\n\n\nTrain the workforce in the introduction of basic construction skills. \nCreate a network of contacts between the communities of the construction industry.\nContribute to closing the gap of knowledge and give the workforce tools and techniques to reinsert successfully in the marketplace
URL:https://regionalhca.org/event/nccer-workforce-training-program-cohort-2-spanish-fridays/2025-07-11/
LOCATION:Mission Oak Cliff  111 S. Beckley Ave. Dallas\, TX 75203
ATTACH;FMTTYPE=image/png:https://regionalhca.org/wp-content/uploads/2025/03/Screenshot-2025-03-31-at-8.39.36 AM.png
END:VEVENT
BEGIN:VEVENT
DTSTART;TZID=America/Chicago:20250704T080000
DTEND;TZID=America/Chicago:20250704T163000
DTSTAMP:20260421T133304
CREATED:20250331T135440Z
LAST-MODIFIED:20250424T211400Z
UID:10000874-1751616000-1751646600@regionalhca.org
SUMMARY:NCCER Workforce Training Program Cohort 2 Spanish | Friday's
DESCRIPTION:Introduction to Basic Construction Skills prepares individuals for entry-level positions.\n\n\n\n\nThe RHCA National Training & Safety Foundation and the Regional Hispanic Contractors Association are delighted to present the Workforce Training Program. \n\nThe opportunities in this industry are much broader than you can imagine. But this industry demands craft professionals and skilled individuals so that this training program will lead you on a path to your new construction career. \n\nConstruction is an exciting industry that offers multiple career opportunities\, is well-paid\, and is growing day by day\, impacting positively on society and the world. Just a few of the construction professions in high demand are carpenter\, pipefitter\, welder\, electrician\, project manager\, and crane operator. \n\n\nBenefits\n\nThe program is 80 hours long.\nThe program is free.\nIntroducing The Day After (job placement assistance to help you start your career)\n\nOutcome & Goals\nSkilled construction professionals with enough knowledge\, tools\, and techniques at a basic level to develop tasks in complex structures. \n\n\n\n\n\nTrain the workforce in the introduction of basic construction skills. \nCreate a network of contacts between the communities of the construction industry.\nContribute to closing the gap of knowledge and give the workforce tools and techniques to reinsert successfully in the marketplace
URL:https://regionalhca.org/event/nccer-workforce-training-program-cohort-2-spanish-fridays/2025-07-04/
LOCATION:Mission Oak Cliff  111 S. Beckley Ave. Dallas\, TX 75203
ATTACH;FMTTYPE=image/png:https://regionalhca.org/wp-content/uploads/2025/03/Screenshot-2025-03-31-at-8.39.36 AM.png
END:VEVENT
BEGIN:VEVENT
DTSTART;TZID=America/Chicago:20250627T080000
DTEND;TZID=America/Chicago:20250627T163000
DTSTAMP:20260421T133304
CREATED:20250331T135440Z
LAST-MODIFIED:20250424T211400Z
UID:10000873-1751011200-1751041800@regionalhca.org
SUMMARY:NCCER Workforce Training Program Cohort 2 Spanish | Friday's
DESCRIPTION:Introduction to Basic Construction Skills prepares individuals for entry-level positions.\n\n\n\n\nThe RHCA National Training & Safety Foundation and the Regional Hispanic Contractors Association are delighted to present the Workforce Training Program. \n\nThe opportunities in this industry are much broader than you can imagine. But this industry demands craft professionals and skilled individuals so that this training program will lead you on a path to your new construction career. \n\nConstruction is an exciting industry that offers multiple career opportunities\, is well-paid\, and is growing day by day\, impacting positively on society and the world. Just a few of the construction professions in high demand are carpenter\, pipefitter\, welder\, electrician\, project manager\, and crane operator. \n\n\nBenefits\n\nThe program is 80 hours long.\nThe program is free.\nIntroducing The Day After (job placement assistance to help you start your career)\n\nOutcome & Goals\nSkilled construction professionals with enough knowledge\, tools\, and techniques at a basic level to develop tasks in complex structures. \n\n\n\n\n\nTrain the workforce in the introduction of basic construction skills. \nCreate a network of contacts between the communities of the construction industry.\nContribute to closing the gap of knowledge and give the workforce tools and techniques to reinsert successfully in the marketplace
URL:https://regionalhca.org/event/nccer-workforce-training-program-cohort-2-spanish-fridays/2025-06-27/
LOCATION:Mission Oak Cliff  111 S. Beckley Ave. Dallas\, TX 75203
ATTACH;FMTTYPE=image/png:https://regionalhca.org/wp-content/uploads/2025/03/Screenshot-2025-03-31-at-8.39.36 AM.png
END:VEVENT
BEGIN:VEVENT
DTSTART;TZID=America/Chicago:20250620T080000
DTEND;TZID=America/Chicago:20250620T163000
DTSTAMP:20260421T133304
CREATED:20250331T135440Z
LAST-MODIFIED:20250424T211400Z
UID:10000870-1750406400-1750437000@regionalhca.org
SUMMARY:NCCER Workforce Training Program Cohort 2 Spanish | Friday's
DESCRIPTION:Introduction to Basic Construction Skills prepares individuals for entry-level positions.\n\n\n\n\nThe RHCA National Training & Safety Foundation and the Regional Hispanic Contractors Association are delighted to present the Workforce Training Program. \n\nThe opportunities in this industry are much broader than you can imagine. But this industry demands craft professionals and skilled individuals so that this training program will lead you on a path to your new construction career. \n\nConstruction is an exciting industry that offers multiple career opportunities\, is well-paid\, and is growing day by day\, impacting positively on society and the world. Just a few of the construction professions in high demand are carpenter\, pipefitter\, welder\, electrician\, project manager\, and crane operator. \n\n\nBenefits\n\nThe program is 80 hours long.\nThe program is free.\nIntroducing The Day After (job placement assistance to help you start your career)\n\nOutcome & Goals\nSkilled construction professionals with enough knowledge\, tools\, and techniques at a basic level to develop tasks in complex structures. \n\n\n\n\n\nTrain the workforce in the introduction of basic construction skills. \nCreate a network of contacts between the communities of the construction industry.\nContribute to closing the gap of knowledge and give the workforce tools and techniques to reinsert successfully in the marketplace
URL:https://regionalhca.org/event/nccer-workforce-training-program-cohort-2-spanish-fridays/2025-06-20/
LOCATION:Mission Oak Cliff  111 S. Beckley Ave. Dallas\, TX 75203
ATTACH;FMTTYPE=image/png:https://regionalhca.org/wp-content/uploads/2025/03/Screenshot-2025-03-31-at-8.39.36 AM.png
END:VEVENT
BEGIN:VEVENT
DTSTART;TZID=America/Chicago:20250613T080000
DTEND;TZID=America/Chicago:20250613T163000
DTSTAMP:20260421T133304
CREATED:20250331T135440Z
LAST-MODIFIED:20250424T211400Z
UID:10000869-1749801600-1749832200@regionalhca.org
SUMMARY:NCCER Workforce Training Program Cohort 2 Spanish | Friday's
DESCRIPTION:Introduction to Basic Construction Skills prepares individuals for entry-level positions.\n\n\n\n\nThe RHCA National Training & Safety Foundation and the Regional Hispanic Contractors Association are delighted to present the Workforce Training Program. \n\nThe opportunities in this industry are much broader than you can imagine. But this industry demands craft professionals and skilled individuals so that this training program will lead you on a path to your new construction career. \n\nConstruction is an exciting industry that offers multiple career opportunities\, is well-paid\, and is growing day by day\, impacting positively on society and the world. Just a few of the construction professions in high demand are carpenter\, pipefitter\, welder\, electrician\, project manager\, and crane operator. \n\n\nBenefits\n\nThe program is 80 hours long.\nThe program is free.\nIntroducing The Day After (job placement assistance to help you start your career)\n\nOutcome & Goals\nSkilled construction professionals with enough knowledge\, tools\, and techniques at a basic level to develop tasks in complex structures. \n\n\n\n\n\nTrain the workforce in the introduction of basic construction skills. \nCreate a network of contacts between the communities of the construction industry.\nContribute to closing the gap of knowledge and give the workforce tools and techniques to reinsert successfully in the marketplace
URL:https://regionalhca.org/event/nccer-workforce-training-program-cohort-2-spanish-fridays/2025-06-13/
LOCATION:Mission Oak Cliff  111 S. Beckley Ave. Dallas\, TX 75203
ATTACH;FMTTYPE=image/png:https://regionalhca.org/wp-content/uploads/2025/03/Screenshot-2025-03-31-at-8.39.36 AM.png
END:VEVENT
BEGIN:VEVENT
DTSTART;TZID=America/Chicago:20250606T080000
DTEND;TZID=America/Chicago:20250606T163000
DTSTAMP:20260421T133304
CREATED:20250331T135440Z
LAST-MODIFIED:20250424T211400Z
UID:10000868-1749196800-1749227400@regionalhca.org
SUMMARY:NCCER Workforce Training Program Cohort 2 Spanish | Friday's
DESCRIPTION:Introduction to Basic Construction Skills prepares individuals for entry-level positions.\n\n\n\n\nThe RHCA National Training & Safety Foundation and the Regional Hispanic Contractors Association are delighted to present the Workforce Training Program. \n\nThe opportunities in this industry are much broader than you can imagine. But this industry demands craft professionals and skilled individuals so that this training program will lead you on a path to your new construction career. \n\nConstruction is an exciting industry that offers multiple career opportunities\, is well-paid\, and is growing day by day\, impacting positively on society and the world. Just a few of the construction professions in high demand are carpenter\, pipefitter\, welder\, electrician\, project manager\, and crane operator. \n\n\nBenefits\n\nThe program is 80 hours long.\nThe program is free.\nIntroducing The Day After (job placement assistance to help you start your career)\n\nOutcome & Goals\nSkilled construction professionals with enough knowledge\, tools\, and techniques at a basic level to develop tasks in complex structures. \n\n\n\n\n\nTrain the workforce in the introduction of basic construction skills. \nCreate a network of contacts between the communities of the construction industry.\nContribute to closing the gap of knowledge and give the workforce tools and techniques to reinsert successfully in the marketplace
URL:https://regionalhca.org/event/nccer-workforce-training-program-cohort-2-spanish-fridays/2025-06-06/
LOCATION:Mission Oak Cliff  111 S. Beckley Ave. Dallas\, TX 75203
ATTACH;FMTTYPE=image/png:https://regionalhca.org/wp-content/uploads/2025/03/Screenshot-2025-03-31-at-8.39.36 AM.png
END:VEVENT
BEGIN:VEVENT
DTSTART;TZID=America/Chicago:20250530T080000
DTEND;TZID=America/Chicago:20250530T163000
DTSTAMP:20260421T133304
CREATED:20250331T135440Z
LAST-MODIFIED:20250424T211400Z
UID:10000867-1748592000-1748622600@regionalhca.org
SUMMARY:NCCER Workforce Training Program Cohort 2 Spanish | Friday's
DESCRIPTION:Introduction to Basic Construction Skills prepares individuals for entry-level positions.\n\n\n\n\nThe RHCA National Training & Safety Foundation and the Regional Hispanic Contractors Association are delighted to present the Workforce Training Program. \n\nThe opportunities in this industry are much broader than you can imagine. But this industry demands craft professionals and skilled individuals so that this training program will lead you on a path to your new construction career. \n\nConstruction is an exciting industry that offers multiple career opportunities\, is well-paid\, and is growing day by day\, impacting positively on society and the world. Just a few of the construction professions in high demand are carpenter\, pipefitter\, welder\, electrician\, project manager\, and crane operator. \n\n\nBenefits\n\nThe program is 80 hours long.\nThe program is free.\nIntroducing The Day After (job placement assistance to help you start your career)\n\nOutcome & Goals\nSkilled construction professionals with enough knowledge\, tools\, and techniques at a basic level to develop tasks in complex structures. \n\n\n\n\n\nTrain the workforce in the introduction of basic construction skills. \nCreate a network of contacts between the communities of the construction industry.\nContribute to closing the gap of knowledge and give the workforce tools and techniques to reinsert successfully in the marketplace
URL:https://regionalhca.org/event/nccer-workforce-training-program-cohort-2-spanish-fridays/2025-05-30/
LOCATION:Mission Oak Cliff  111 S. Beckley Ave. Dallas\, TX 75203
ATTACH;FMTTYPE=image/png:https://regionalhca.org/wp-content/uploads/2025/03/Screenshot-2025-03-31-at-8.39.36 AM.png
END:VEVENT
BEGIN:VEVENT
DTSTART;TZID=America/Chicago:20250523T080000
DTEND;TZID=America/Chicago:20250523T163000
DTSTAMP:20260421T133304
CREATED:20250331T135440Z
LAST-MODIFIED:20250424T211400Z
UID:10000866-1747987200-1748017800@regionalhca.org
SUMMARY:NCCER Workforce Training Program Cohort 2 Spanish | Friday's
DESCRIPTION:Introduction to Basic Construction Skills prepares individuals for entry-level positions.\n\n\n\n\nThe RHCA National Training & Safety Foundation and the Regional Hispanic Contractors Association are delighted to present the Workforce Training Program. \n\nThe opportunities in this industry are much broader than you can imagine. But this industry demands craft professionals and skilled individuals so that this training program will lead you on a path to your new construction career. \n\nConstruction is an exciting industry that offers multiple career opportunities\, is well-paid\, and is growing day by day\, impacting positively on society and the world. Just a few of the construction professions in high demand are carpenter\, pipefitter\, welder\, electrician\, project manager\, and crane operator. \n\n\nBenefits\n\nThe program is 80 hours long.\nThe program is free.\nIntroducing The Day After (job placement assistance to help you start your career)\n\nOutcome & Goals\nSkilled construction professionals with enough knowledge\, tools\, and techniques at a basic level to develop tasks in complex structures. \n\n\n\n\n\nTrain the workforce in the introduction of basic construction skills. \nCreate a network of contacts between the communities of the construction industry.\nContribute to closing the gap of knowledge and give the workforce tools and techniques to reinsert successfully in the marketplace
URL:https://regionalhca.org/event/nccer-workforce-training-program-cohort-2-spanish-fridays/2025-05-23/
LOCATION:Mission Oak Cliff  111 S. Beckley Ave. Dallas\, TX 75203
ATTACH;FMTTYPE=image/png:https://regionalhca.org/wp-content/uploads/2025/03/Screenshot-2025-03-31-at-8.39.36 AM.png
END:VEVENT
BEGIN:VEVENT
DTSTART;TZID=America/Chicago:20250509T080000
DTEND;TZID=America/Chicago:20250718T163000
DTSTAMP:20260421T133304
CREATED:20250501T135242Z
LAST-MODIFIED:20250501T135243Z
UID:10000865-1746777600-1752856200@regionalhca.org
SUMMARY:NCCER Workforce Training Program Cohort 2 Spanish | Friday's
DESCRIPTION:Introduction to Basic Construction Skills prepares individuals for entry-level positions.\n\n\n\n\nThe RHCA National Training & Safety Foundation and the Regional Hispanic Contractors Association are delighted to present the Workforce Training Program. \n\nThe opportunities in this industry are much broader than you can imagine. But this industry demands craft professionals and skilled individuals so that this training program will lead you on a path to your new construction career. \n\nConstruction is an exciting industry that offers multiple career opportunities\, is well-paid\, and is growing day by day\, impacting positively on society and the world. Just a few of the construction professions in high demand are carpenter\, pipefitter\, welder\, electrician\, project manager\, and crane operator. \n\n\nBenefits\n\nThe program is 80 hours long.\nThe program is free.\nIntroducing The Day After (job placement assistance to help you start your career)\n\nOutcome & Goals\nSkilled construction professionals with enough knowledge\, tools\, and techniques at a basic level to develop tasks in complex structures. \n\n\n\n\n\nTrain the workforce in the introduction of basic construction skills. \nCreate a network of contacts between the communities of the construction industry.\nContribute to closing the gap of knowledge and give the workforce tools and techniques to reinsert successfully in the marketplace
URL:https://regionalhca.org/event/nccer-workforce-training-program-cohort-2-spanish-fridays-3/
LOCATION:Mission Oak Cliff  111 S. Beckley Ave. Dallas\, TX 75203
ATTACH;FMTTYPE=image/png:https://regionalhca.org/wp-content/uploads/2025/03/Screenshot-2025-03-31-at-8.39.36 AM.png
END:VEVENT
BEGIN:VEVENT
DTSTART;TZID=America/Chicago:20250509T080000
DTEND;TZID=America/Chicago:20250509T163000
DTSTAMP:20260421T133304
CREATED:20250402T203854Z
LAST-MODIFIED:20250424T211218Z
UID:10000860-1746777600-1746808200@regionalhca.org
SUMMARY:NCCER Workforce Training Program Cohort 2 Spanish | Friday's
DESCRIPTION:Introduction to Basic Construction Skills prepares individuals for entry-level positions.\n\n\n\n\nThe RHCA National Training & Safety Foundation and the Regional Hispanic Contractors Association are delighted to present the Workforce Training Program. \n\nThe opportunities in this industry are much broader than you can imagine. But this industry demands craft professionals and skilled individuals so that this training program will lead you on a path to your new construction career. \n\nConstruction is an exciting industry that offers multiple career opportunities\, is well-paid\, and is growing day by day\, impacting positively on society and the world. Just a few of the construction professions in high demand are carpenter\, pipefitter\, welder\, electrician\, project manager\, and crane operator. \n\n\nBenefits\n\nThe program is 80 hours long.\nThe program is free.\nIntroducing The Day After (job placement assistance to help you start your career)\n\nOutcome & Goals\nSkilled construction professionals with enough knowledge\, tools\, and techniques at a basic level to develop tasks in complex structures. \n\n\n\n\n\nTrain the workforce in the introduction of basic construction skills. \nCreate a network of contacts between the communities of the construction industry.\nContribute to closing the gap of knowledge and give the workforce tools and techniques to reinsert successfully in the marketplace
URL:https://regionalhca.org/event/nccer-workforce-training-program-cohort-2-spanish-fridays-2/
LOCATION:Mission Oak Cliff  111 S. Beckley Ave. Dallas\, TX 75203
CATEGORIES:Workforce Training
ATTACH;FMTTYPE=image/png:https://regionalhca.org/wp-content/uploads/2025/03/Screenshot-2025-03-31-at-8.39.36 AM.png
END:VEVENT
BEGIN:VEVENT
DTSTART;TZID=America/Chicago:20250411T130000
DTEND;TZID=America/Chicago:20250411T150000
DTSTAMP:20260421T133304
CREATED:20250114T214718Z
LAST-MODIFIED:20250410T141747Z
UID:10000757-1744376400-1744383600@regionalhca.org
SUMMARY:Dallas [Español] Fall Protection Training
DESCRIPTION:The Fall Protection Class is a one-day\, two-hour course. Upon completing the two-hour course\, each student will receive a “Certificate of Completion” of the OSHA Susan Harwood Training Grant Fall Protection.
URL:https://regionalhca.org/event/fall-protection-training-spanish-24/
LOCATION:Mission Oak Cliff  111 S. Beckley Ave. Dallas\, TX 75203
CATEGORIES:Safety Training
ATTACH;FMTTYPE=image/png:https://regionalhca.org/wp-content/uploads/2025/01/Screenshot-2025-03-19-at-9.59.53 AM-30.png
END:VEVENT
END:VCALENDAR