BEGIN:VCALENDAR
VERSION:2.0
PRODID:-//Regional Hispanic Contractors Association - ECPv6.15.20//NONSGML v1.0//EN
CALSCALE:GREGORIAN
METHOD:PUBLISH
X-ORIGINAL-URL:https://regionalhca.org
X-WR-CALDESC:Events for Regional Hispanic Contractors Association
REFRESH-INTERVAL;VALUE=DURATION:PT1H
X-Robots-Tag:noindex
X-PUBLISHED-TTL:PT1H
BEGIN:VTIMEZONE
TZID:America/Chicago
BEGIN:DAYLIGHT
TZOFFSETFROM:-0600
TZOFFSETTO:-0500
TZNAME:CDT
DTSTART:20250309T080000
END:DAYLIGHT
BEGIN:STANDARD
TZOFFSETFROM:-0500
TZOFFSETTO:-0600
TZNAME:CST
DTSTART:20251102T070000
END:STANDARD
BEGIN:DAYLIGHT
TZOFFSETFROM:-0600
TZOFFSETTO:-0500
TZNAME:CDT
DTSTART:20260308T080000
END:DAYLIGHT
BEGIN:STANDARD
TZOFFSETFROM:-0500
TZOFFSETTO:-0600
TZNAME:CST
DTSTART:20261101T070000
END:STANDARD
BEGIN:DAYLIGHT
TZOFFSETFROM:-0600
TZOFFSETTO:-0500
TZNAME:CDT
DTSTART:20270314T080000
END:DAYLIGHT
BEGIN:STANDARD
TZOFFSETFROM:-0500
TZOFFSETTO:-0600
TZNAME:CST
DTSTART:20271107T070000
END:STANDARD
END:VTIMEZONE
BEGIN:VEVENT
DTSTART;TZID=America/Chicago:20260529T083000
DTEND;TZID=America/Chicago:20260529T110000
DTSTAMP:20260421T065717
CREATED:20260323T172534Z
LAST-MODIFIED:20260414T232646Z
UID:10002503-1780043400-1780052400@regionalhca.org
SUMMARY:OSHA Inspection Readiness Training Program (Webinar)
DESCRIPTION:OSHA Inspection Readiness Training Program (Webinar) \nFriday May 29\,  2026 \n8:30 AM – 11:00 AM \nRegister Here \nOSHA inspections can happen without warning and often lead to costly citations when companies are not prepared. This training will help contractors understand how OSHA inspections begin\, what inspectors look for\, and how to properly manage an inspection from start to finish. \nParticipants will learn how to respond when OSHA arrives on a jobsite\, how to manage the inspection process\, and how companies can reduce the risk of violations and penalties through proper documentation and preparation.
URL:https://regionalhca.org/event/osha-inspection-readiness-training-program-webinar/
LOCATION:Statwide: Austin | Dallas | El Paso | Houston | Rio Grande Valley | Laredo | Sherman | Tyler\, TX\, United States
ATTACH;FMTTYPE=image/jpeg:https://regionalhca.org/wp-content/uploads/2026/03/WhatsApp-Image-2026-04-14-at-4.39.24-PM.jpeg
END:VEVENT
END:VCALENDAR