BEGIN:VCALENDAR
VERSION:2.0
PRODID:-//Regional Hispanic Contractors Association - ECPv6.15.20//NONSGML v1.0//EN
CALSCALE:GREGORIAN
METHOD:PUBLISH
X-WR-CALNAME:Regional Hispanic Contractors Association
X-ORIGINAL-URL:https://regionalhca.org
X-WR-CALDESC:Events for Regional Hispanic Contractors Association
REFRESH-INTERVAL;VALUE=DURATION:PT1H
X-Robots-Tag:noindex
X-PUBLISHED-TTL:PT1H
BEGIN:VTIMEZONE
TZID:America/Chicago
BEGIN:DAYLIGHT
TZOFFSETFROM:-0600
TZOFFSETTO:-0500
TZNAME:CDT
DTSTART:20240310T080000
END:DAYLIGHT
BEGIN:STANDARD
TZOFFSETFROM:-0500
TZOFFSETTO:-0600
TZNAME:CST
DTSTART:20241103T070000
END:STANDARD
BEGIN:DAYLIGHT
TZOFFSETFROM:-0600
TZOFFSETTO:-0500
TZNAME:CDT
DTSTART:20250309T080000
END:DAYLIGHT
BEGIN:STANDARD
TZOFFSETFROM:-0500
TZOFFSETTO:-0600
TZNAME:CST
DTSTART:20251102T070000
END:STANDARD
BEGIN:DAYLIGHT
TZOFFSETFROM:-0600
TZOFFSETTO:-0500
TZNAME:CDT
DTSTART:20260308T080000
END:DAYLIGHT
BEGIN:STANDARD
TZOFFSETFROM:-0500
TZOFFSETTO:-0600
TZNAME:CST
DTSTART:20261101T070000
END:STANDARD
END:VTIMEZONE
BEGIN:VEVENT
DTSTART;TZID=America/Chicago:20251110T070000
DTEND;TZID=America/Chicago:20251110T140000
DTSTAMP:20260421T100854
CREATED:20250630T232322Z
LAST-MODIFIED:20250707T220924Z
UID:10000894-1762758000-1762783200@regionalhca.org
SUMMARY:RHCA Golf Classic Houston 2025
DESCRIPTION:REGISTRATION FORM \nEvent Website\nThe River Bend Dress Code\n \n 
URL:https://regionalhca.org/event/rhca-houston-golf-tournament-2025/
LOCATION:Riverbend Country Club\, 1214 Dulles Avenue\, Sugar Land\, TX\, 77478-4002
ATTACH;FMTTYPE=image/png:https://regionalhca.org/wp-content/uploads/2025/07/Screenshot-2025-07-06-at-12.09.04 PM-1.png
END:VEVENT
END:VCALENDAR