BEGIN:VCALENDAR
VERSION:2.0
PRODID:-//Regional Hispanic Contractors Association - ECPv6.15.20//NONSGML v1.0//EN
CALSCALE:GREGORIAN
METHOD:PUBLISH
X-WR-CALNAME:Regional Hispanic Contractors Association
X-ORIGINAL-URL:https://regionalhca.org
X-WR-CALDESC:Events for Regional Hispanic Contractors Association
REFRESH-INTERVAL;VALUE=DURATION:PT1H
X-Robots-Tag:noindex
X-PUBLISHED-TTL:PT1H
BEGIN:VTIMEZONE
TZID:America/Chicago
BEGIN:DAYLIGHT
TZOFFSETFROM:-0600
TZOFFSETTO:-0500
TZNAME:CDT
DTSTART:20240310T080000
END:DAYLIGHT
BEGIN:STANDARD
TZOFFSETFROM:-0500
TZOFFSETTO:-0600
TZNAME:CST
DTSTART:20241103T070000
END:STANDARD
BEGIN:DAYLIGHT
TZOFFSETFROM:-0600
TZOFFSETTO:-0500
TZNAME:CDT
DTSTART:20250309T080000
END:DAYLIGHT
BEGIN:STANDARD
TZOFFSETFROM:-0500
TZOFFSETTO:-0600
TZNAME:CST
DTSTART:20251102T070000
END:STANDARD
BEGIN:DAYLIGHT
TZOFFSETFROM:-0600
TZOFFSETTO:-0500
TZNAME:CDT
DTSTART:20260308T080000
END:DAYLIGHT
BEGIN:STANDARD
TZOFFSETFROM:-0500
TZOFFSETTO:-0600
TZNAME:CST
DTSTART:20261101T070000
END:STANDARD
END:VTIMEZONE
BEGIN:VEVENT
DTSTART;TZID=America/Chicago:20250214T110000
DTEND;TZID=America/Chicago:20250214T140000
DTSTAMP:20260421T123811
CREATED:20250108T191655Z
LAST-MODIFIED:20250108T191916Z
UID:10000706-1739530800-1739541600@regionalhca.org
SUMMARY:Pillar Awards Luncheon & Construction Expo
DESCRIPTION:JOIN US! Learn about A/E/C upcoming opportunities and network with industry leaders. \nFEBRUARY 14\, 2025 \n11:00 AM – 2:00 PM \nSHERATON HOTEL DALLAS – \n400 N. OLIVE ST. – DALLAS\, TX 75201 \n\nConstruction Expo\nBreakout Sessions\nAward Luncheon\n\nSponsorhip & Exhibitor Registration Here  \nBreakout Sessions Registration Here  \nMake a Nomination Here \n \n 
URL:https://regionalhca.org/event/pillar-awards-luncheon-construction-expo/
LOCATION:Sheraton Hotel Dallas\, 400 N. OLIVE ST.\, Dallas\, 75201\, United States
ATTACH;FMTTYPE=image/png:https://regionalhca.org/wp-content/uploads/2025/01/Pillar-Awards-Luncheon-construction-expo-2.png
END:VEVENT
END:VCALENDAR