BEGIN:VCALENDAR
VERSION:2.0
PRODID:-//Regional Hispanic Contractors Association - ECPv6.15.20//NONSGML v1.0//EN
CALSCALE:GREGORIAN
METHOD:PUBLISH
X-ORIGINAL-URL:https://regionalhca.org
X-WR-CALDESC:Events for Regional Hispanic Contractors Association
REFRESH-INTERVAL;VALUE=DURATION:PT1H
X-Robots-Tag:noindex
X-PUBLISHED-TTL:PT1H
BEGIN:VTIMEZONE
TZID:America/Chicago
BEGIN:DAYLIGHT
TZOFFSETFROM:-0600
TZOFFSETTO:-0500
TZNAME:CDT
DTSTART:20240310T080000
END:DAYLIGHT
BEGIN:STANDARD
TZOFFSETFROM:-0500
TZOFFSETTO:-0600
TZNAME:CST
DTSTART:20241103T070000
END:STANDARD
BEGIN:DAYLIGHT
TZOFFSETFROM:-0600
TZOFFSETTO:-0500
TZNAME:CDT
DTSTART:20250309T080000
END:DAYLIGHT
BEGIN:STANDARD
TZOFFSETFROM:-0500
TZOFFSETTO:-0600
TZNAME:CST
DTSTART:20251102T070000
END:STANDARD
BEGIN:DAYLIGHT
TZOFFSETFROM:-0600
TZOFFSETTO:-0500
TZNAME:CDT
DTSTART:20260308T080000
END:DAYLIGHT
BEGIN:STANDARD
TZOFFSETFROM:-0500
TZOFFSETTO:-0600
TZNAME:CST
DTSTART:20261101T070000
END:STANDARD
END:VTIMEZONE
BEGIN:VEVENT
DTSTART;TZID=America/Chicago:20250724T090000
DTEND;TZID=America/Chicago:20250724T150000
DTSTAMP:20260421T142447
CREATED:20250617T162332Z
LAST-MODIFIED:20250617T162332Z
UID:10000883-1753347600-1753369200@regionalhca.org
SUMMARY:Dallas ISD - Building B.I.G. — Construction Mixer
DESCRIPTION:Dallas ISD – Building B.I.G. — Construction Mixer \nRSVP: https://bit.ly/4l31kPE \nSubcontractors\, General/prime contractors\, Suppliers\, and Community Members are invited! \nThe mixer will take place on Tuesday\, July 24\, 2025\, and is hosted by the Dallas ISD Small Business Office and Dallas ISD Construction Services/Bond Office. Dallas ISD is always looking to connect with capable and qualified businesses. Join us for a dynamic networking experience focused on building relationships\, increasing visibility\, and supporting the growth of diverse businesses within the district’s construction ecosystem. \nWhat to Expect at the Mixer: \n\nExhibitor Hall – Meet and network with General Contractors who are actively looking to partner with subcontractors and suppliers for upcoming projects.\nWorkshops & Informational Sessions – Gain insights into doing business with Dallas ISD\, learn about current procurement opportunities\, and explore construction-related resources.\nNetworking Opportunities – Bring your business cards\, capability statements\, and prepare to make meaningful connections.\nGuided School Tours (optional) – Get a firsthand look at two major Bond 2020 Construction Projects. Walnut Hill International Leadership Academy and Career Institute North. These campuses were thoughfully redesigned and rebuilt after the devastation of a major tornado – and now stand as models of innovation\, resilience\, and purpose-driven design. These guided tours will give contractors\, subcontractors and design professionals a deeper understanding of the district’s construction standards\, project scope\, and the lasting impact on their work on the Dallas ISD community. Shuttle service will be provided.\n\nNote: This registration is for general admission only and does not include exhibitor participation. \nRSVP: https://bit.ly/4l31kPE
URL:https://regionalhca.org/event/dallas-isd-building-b-i-g-construction-mixer/
LOCATION:Thomas Jefferson High School\, 4001 Walnut Hill Lane\, Dallas\, 75229\, United States
ATTACH;FMTTYPE=image/png:https://regionalhca.org/wp-content/uploads/2025/06/Screenshot-2025-06-17-at-11.22.59 a.m.png
END:VEVENT
END:VCALENDAR