BEGIN:VCALENDAR
VERSION:2.0
PRODID:-//Regional Hispanic Contractors Association - ECPv6.15.20//NONSGML v1.0//EN
CALSCALE:GREGORIAN
METHOD:PUBLISH
X-ORIGINAL-URL:https://regionalhca.org
X-WR-CALDESC:Events for Regional Hispanic Contractors Association
REFRESH-INTERVAL;VALUE=DURATION:PT1H
X-Robots-Tag:noindex
X-PUBLISHED-TTL:PT1H
BEGIN:VTIMEZONE
TZID:America/Chicago
BEGIN:DAYLIGHT
TZOFFSETFROM:-0600
TZOFFSETTO:-0500
TZNAME:CDT
DTSTART:20240310T080000
END:DAYLIGHT
BEGIN:STANDARD
TZOFFSETFROM:-0500
TZOFFSETTO:-0600
TZNAME:CST
DTSTART:20241103T070000
END:STANDARD
BEGIN:DAYLIGHT
TZOFFSETFROM:-0600
TZOFFSETTO:-0500
TZNAME:CDT
DTSTART:20250309T080000
END:DAYLIGHT
BEGIN:STANDARD
TZOFFSETFROM:-0500
TZOFFSETTO:-0600
TZNAME:CST
DTSTART:20251102T070000
END:STANDARD
BEGIN:DAYLIGHT
TZOFFSETFROM:-0600
TZOFFSETTO:-0500
TZNAME:CDT
DTSTART:20260308T080000
END:DAYLIGHT
BEGIN:STANDARD
TZOFFSETFROM:-0500
TZOFFSETTO:-0600
TZNAME:CST
DTSTART:20261101T070000
END:STANDARD
END:VTIMEZONE
BEGIN:VEVENT
DTSTART;TZID=America/Chicago:20250306T100000
DTEND;TZID=America/Chicago:20250306T113000
DTSTAMP:20260421T112604
CREATED:20250218T201606Z
LAST-MODIFIED:20250219T172052Z
UID:10000808-1741255200-1741260600@regionalhca.org
SUMMARY:Greater Houston Workforce Roundtable
DESCRIPTION:Please join us for a timely and important discussion on the impact of new policies from Congress and the Trump Administration on Greater Houston’s workforce. The discussion will cover what business and higher-education leaders can do to protect their workers and students\, as well as how they can support sensible legislative solutions for Houston DACAand TPS recipient workers. Over 572\,000 long-term undocumented workers live in our region; 29% of Houston construction workers and 12% of hospitality workers are undocumented. In addition\, over 46\,000 DACA-eligible Dreamers and 27\,000 TPS recipients are working\, studying\, and contributing to our region. Protecting these individuals from deportation and allowing them to work is critical to maintaining our region’s competitiveness and fostering economic growth.
URL:https://regionalhca.org/event/greater-houston-workforce-roundtable/
LOCATION:university of st thomas houston\, 3800 Montrose Blvd\, Houston\, TX 77006\, United States\, Houston\, United States
ATTACH;FMTTYPE=image/png:https://regionalhca.org/wp-content/uploads/2025/02/ABIC-March-6-Flyer.png
END:VEVENT
END:VCALENDAR